BEGIN:VCALENDAR
VERSION:2.0
PRODID:-//eventon.com NONSGML v1.0//EN
CALSCALE:GREGORIAN
METHOD:PUBLISH
BEGIN:VEVENT
UID:69ecd7ccb5910
DTSTAMP:20260425T150340Z
DTSTART:20260418T110000Z
DTEND:20260418T160000Z
LOCATION:
SUMMARY:Volunteer Open Hours
DESCRIPTION:Join us every 1st and 3rd Saturday of the month for open volunt
 eer hours 🪏🌻🥕 Seed Starting Planting Landscaping Weeding Veggie ha
 rvest Plant medicine harvest and drying & more! If this is your first time 
 volunteering with us make sure to fill out a volunteer interest form found 
 on the[..]\nhttps://hakifarmers.org/events/volunteer-open-hours/
URL:https://hakifarmers.org/events/volunteer-open-hours/
END:VEVENT
END:VCALENDAR