BEGIN:VCALENDAR
VERSION:2.0
PRODID:-//eventon.com NONSGML v1.0//EN
CALSCALE:GREGORIAN
METHOD:PUBLISH
BEGIN:VEVENT
UID:69ecd740d3669
DTSTAMP:20260425T150120Z
DTSTART:20260425T130000Z
DTEND:20260425T230000Z
LOCATION:
SUMMARY:Spring Arts Walk
DESCRIPTION:The Haki Farmers & Moving Parts Dance Co. are collaborating for
  Olympia's Arts Walk! Seed Swap: 1-3pm Bring your seed collection to share 
 with other plant nerds Saturday afternoon from 1-3pm outside of Moving Part
 s Dance. The Haki Farmers will be bringing some of our favorite seeds that 
 we've saved[..]\nhttps://hakifarmers.org/events/spring-arts-walk/
URL:https://hakifarmers.org/events/spring-arts-walk/
END:VEVENT
END:VCALENDAR